BEGIN:VCALENDAR
VERSION:2.0
PRODID:-//Archana Vidya Bhavan - ECPv5.1.0//NONSGML v1.0//EN
CALSCALE:GREGORIAN
METHOD:PUBLISH
X-WR-CALNAME:Archana Vidya Bhavan
X-ORIGINAL-URL:https://archanaschool.com
X-WR-CALDESC:Events for Archana Vidya Bhavan
BEGIN:VTIMEZONE
TZID:UTC
BEGIN:STANDARD
TZOFFSETFROM:+0000
TZOFFSETTO:+0000
TZNAME:UTC
DTSTART:20170101T000000
END:STANDARD
END:VTIMEZONE
BEGIN:VEVENT
DTSTART;VALUE=DATE:20170414
DTEND;VALUE=DATE:20170415
DTSTAMP:20260422T071246
CREATED:20160606T171909Z
LAST-MODIFIED:20160606T171909Z
UID:2775-1492128000-1492214399@archanaschool.com
SUMMARY:AMBEDKAR JAYANTI/GOOD FRIDAY
DESCRIPTION:
URL:https://archanaschool.com/event/ambedkar-jayantigood-friday/
CATEGORIES:Holidays
END:VEVENT
END:VCALENDAR