BEGIN:VCALENDAR
VERSION:2.0
PRODID:-//Archana Vidya Bhavan - ECPv5.1.0//NONSGML v1.0//EN
CALSCALE:GREGORIAN
METHOD:PUBLISH
X-WR-CALNAME:Archana Vidya Bhavan
X-ORIGINAL-URL:https://archanaschool.com
X-WR-CALDESC:Events for Archana Vidya Bhavan
BEGIN:VTIMEZONE
TZID:UTC
BEGIN:STANDARD
TZOFFSETFROM:+0000
TZOFFSETTO:+0000
TZNAME:UTC
DTSTART:20170101T000000
END:STANDARD
END:VTIMEZONE
BEGIN:VEVENT
DTSTART;VALUE=DATE:20170405
DTEND;VALUE=DATE:20170406
DTSTAMP:20260422T072240
CREATED:20160606T171908Z
LAST-MODIFIED:20160606T171908Z
UID:2774-1491350400-1491436799@archanaschool.com
SUMMARY:RAMNAVAMI
DESCRIPTION:
URL:https://archanaschool.com/event/ramnavami/
CATEGORIES:Holidays
END:VEVENT
END:VCALENDAR