BEGIN:VCALENDAR
VERSION:2.0
PRODID:-//Archana Vidya Bhavan - ECPv5.1.0//NONSGML v1.0//EN
CALSCALE:GREGORIAN
METHOD:PUBLISH
X-WR-CALNAME:Archana Vidya Bhavan
X-ORIGINAL-URL:https://archanaschool.com
X-WR-CALDESC:Events for Archana Vidya Bhavan
BEGIN:VTIMEZONE
TZID:UTC
BEGIN:STANDARD
TZOFFSETFROM:+0000
TZOFFSETTO:+0000
TZNAME:UTC
DTSTART:20170101T000000
END:STANDARD
END:VTIMEZONE
BEGIN:VEVENT
DTSTART;TZID=UTC:20170221T000000
DTEND;TZID=UTC:20170221T000000
DTSTAMP:20260422T121800
CREATED:20160606T171920Z
LAST-MODIFIED:20160606T171920Z
UID:2791-1487635200-1487635200@archanaschool.com
SUMMARY:MATRU BHASHA GAURAV DIVAS
DESCRIPTION:ALL STD \n
URL:https://archanaschool.com/event/matru-bhasha-gaurav-divas/
CATEGORIES:CELEBRATION
END:VEVENT
END:VCALENDAR